BEGIN:VCALENDAR
VERSION:2.0
CALSCALE:GREGORIAN
PRODID:-//Kasteeltuinen Arcen//NL
METHOD:PUBLISH
X-WR-TIMEZONE:Europe/Amsterdam
BEGIN:VEVENT
UID:af2908c857af94b7fefae8b9@kasteeltuinen-arcen.nl
DTSTAMP:20260212T100001Z
SUMMARY:Elfia
DTSTART;VALUE=DATE:20260919
DTEND;VALUE=DATE:20260921
DESCRIPTION:Fantasy & kostuumevenement.
LOCATION:Kasteeltuinen Arcen, Lingsforterweg 26, 5944 BE Arcen, Nederland
URL:https://www.kasteeltuinen.nl/nl/evenementen/elfia/
END:VEVENT
END:VCALENDAR
