BEGIN:VCALENDAR
VERSION:2.0
CALSCALE:GREGORIAN
PRODID:-//Kasteeltuinen Arcen//NL
METHOD:PUBLISH
X-WR-TIMEZONE:Europe/Amsterdam
BEGIN:VEVENT
UID:54c302369cb084c510273fe2@kasteeltuinen-arcen.nl
DTSTAMP:20260212T100001Z
SUMMARY:Herfstig!
DTSTART;VALUE=DATE:20261001
DTEND;VALUE=DATE:20261102
DESCRIPTION:Herfstige sferen en herfstbloeiers.
LOCATION:Kasteeltuinen Arcen, Lingsforterweg 26, 5944 BE Arcen, Nederland
URL:https://www.kasteeltuinen.nl/nl/evenementen/herfstig/
END:VEVENT
END:VCALENDAR
