BEGIN:VCALENDAR
VERSION:2.0
CALSCALE:GREGORIAN
PRODID:-//Kasteeltuinen Arcen//NL
METHOD:PUBLISH
X-WR-TIMEZONE:Europe/Amsterdam
BEGIN:VEVENT
UID:51ca5dc478abb948146cb0d8@kasteeltuinen-arcen.nl
DTSTAMP:20260212T100001Z
SUMMARY:Pasen in Kasteeltuinen Arcen
DTSTART;VALUE=DATE:20260405
DTEND;VALUE=DATE:20260407
DESCRIPTION:Vier Pasen tussen de thematuinen vol voorjaarsbloeiers.
LOCATION:Kasteeltuinen Arcen, Lingsforterweg 26, 5944 BE Arcen, Nederland
URL:https://www.kasteeltuinen.nl/nl/evenementen/pasen-in-kasteeltuinen-arcen/
END:VEVENT
END:VCALENDAR
