BEGIN:VCALENDAR
VERSION:2.0
CALSCALE:GREGORIAN
PRODID:-//Schlossgärten Arcen//DE
METHOD:PUBLISH
X-WR-TIMEZONE:Europe/Amsterdam
BEGIN:VEVENT
UID:0c8039190e467dc6614a99b1@schlossgaerten-arcen.de
DTSTAMP:20260402T123332Z
SUMMARY:Enchanted Gardens
DTSTART;VALUE=DATE:20261009
DTEND;VALUE=DATE:20261101
DESCRIPTION:Abendliches Lichtkunstfestival in den Schlossgärten Arcen.
LOCATION:Schlossgärten Arcen, Lingsforterweg 26, 5944 BE Arcen, Niederlande
URL:https://www.kasteeltuinen.nl/de/planen-sie-ihren-besuch-2/veranstaltungen/
END:VEVENT
END:VCALENDAR
