BEGIN:VCALENDAR
VERSION:2.0
CALSCALE:GREGORIAN
PRODID:-//Schlossgärten Arcen//DE
METHOD:PUBLISH
X-WR-TIMEZONE:Europe/Amsterdam
BEGIN:VEVENT
UID:2e9b790811c2e073e012fd40@schlossgaerten-arcen.de
DTSTAMP:20260402T123332Z
SUMMARY:Herbstzauber!
DTSTART;VALUE=DATE:20261001
DTEND;VALUE=DATE:20261102
DESCRIPTION:Herbstliche Farben, Dekorationen und saisonale Blüten.
LOCATION:Schlossgärten Arcen, Lingsforterweg 26, 5944 BE Arcen, Niederlande
URL:https://www.kasteeltuinen.nl/de/planen-sie-ihren-besuch-2/veranstaltungen/
END:VEVENT
END:VCALENDAR
