BEGIN:VCALENDAR
VERSION:2.0
CALSCALE:GREGORIAN
PRODID:-//Schlossgärten Arcen//DE
METHOD:PUBLISH
X-WR-TIMEZONE:Europe/Amsterdam
BEGIN:VEVENT
UID:ecb27243916b0391b1e7f07f@schlossgaerten-arcen.de
DTSTAMP:20260402T123332Z
SUMMARY:Klassik in den Gärten
DTSTART;VALUE=DATE:20260524
DTEND;VALUE=DATE:20260526
DESCRIPTION:Klassikfestival mit Ensembles an mehreren Standorten im Park.
LOCATION:Schlossgärten Arcen, Lingsforterweg 26, 5944 BE Arcen, Niederlande
URL:https://www.kasteeltuinen.nl/de/planen-sie-ihren-besuch-2/veranstaltungen/
END:VEVENT
END:VCALENDAR
